BEGIN:VCALENDAR
VERSION:2.0
PRODID:-//Library of Congress/loc.gov//NONSGML v1.0//EN
SOURCE;VALUE=URI:https://www.loc.gov/item/event-400387/virtual-business-r
 esearch-orientation/2021-03-10/?fo=ical
REFRESH-INTERVAL:VALUE=DURATION:PT12H
X-PUBLISHED-TTL:PT12H
METHOD:PUBLISH
BEGIN:VTIMEZONE
TZID:America/New_York
BEGIN:STANDARD
DTSTART:20071104T020000
RRULE:FREQ=YEARLY;BYMONTH=11;BYDAY=1SU
TZOFFSETFROM:-0400
TZOFFSETTO:-0500
TZNAME:EST
END:STANDARD
BEGIN:DAYLIGHT
DTSTART:20070311T020000
RRULE:FREQ=YEARLY;BYMONTH=3;BYDAY=2SU
TZOFFSETFROM:-0500
TZOFFSETTO:-0400
TZNAME:EDT
END:DAYLIGHT
END:VTIMEZONE
BEGIN:VEVENT
UID:www-loc-gov-item-event-400387@loc.gov
DTSTAMP:20210310T180000Z
DTSTART;TZID=America/New_York:20210310T130000
DTEND;TZID=America/New_York:20210310T140000
SUMMARY:Virtual Business Research Orientation
STATUS:CONFIRMED
CLASS:PUBLIC
GEO:None
LOCATION:https://www.eventbrite.com/e/virtual-business-research-orientati
 on-registration-127708649007
CONTACT:
DESCRIPTION:The virtual Business Research Orientation provides an overvie
 w of resources and services for business research\, with an emphasis on L
 ibrary of Congress tools and search strategies that can be used from home
 . This class is designed to introduce you to research at the Library\, na
 vigating the online catalog\, and highlighting resources specific to busi
 ness research.
X-ALT-DESC;FMTTYPE=text/html:<!DOCTYPE HTML PUBLIC "-//W3C//DTD HTML 3.2/
 /EN">\n
<HTML>\n<HEAD>\n<TITLE></TITLE>\n</HEAD>\n<BODY>\nThe virtual Business Re
 search Orientation provides an overview of resources and services for bus
 iness research\, with an emphasis on Library of Congress tools and search
  strategies that can be used from home. This class is designed to introdu
 ce you to research at the Library\, navigating the online catalog\, and h
 ighlighting resources specific to business research.</BODY></HTML>
URL;VALUE=URI:http://www.loc.gov/item/event-400387/
END:VEVENT
END:VCALENDAR